BEGIN:VCALENDAR
VERSION:2.0
PRODID:-//SportLink - ECPv4.2.7//NONSGML v1.0//EN
CALSCALE:GREGORIAN
METHOD:PUBLISH
X-WR-CALNAME:SportLink
X-ORIGINAL-URL:https://sudburysportlink.ca
X-WR-CALDESC:Events for SportLink
BEGIN:VEVENT
DTSTART;VALUE=DATE:20170505
DTEND;VALUE=DATE:20170506
DTSTAMP:20260425T221605
CREATED:20170504
LAST-MODIFIED:20170510
UID:322-1493942400-1494115199@sudburysportlink.ca
SUMMARY:Golden Gators Invitational Soccer Tournament
DESCRIPTION:
URL:https://sudburysportlink.ca/event/golden-gators-invitational-soccer-tournament/
LOCATION:90 Centennial Drive\, Sudbury\, Ontario\, P3E 5J4\, Canada
CATEGORIES:High School Sports
END:VEVENT
END:VCALENDAR