BEGIN:VCALENDAR
VERSION:2.0
PRODID:-//SportLink - ECPv4.2.7//NONSGML v1.0//EN
CALSCALE:GREGORIAN
METHOD:PUBLISH
X-WR-CALNAME:SportLink
X-ORIGINAL-URL:https://sudburysportlink.ca
X-WR-CALDESC:Events for SportLink
BEGIN:VEVENT
DTSTART;VALUE=DATE:20170703
DTEND;VALUE=DATE:20170707
DTSTAMP:20260420T125646
CREATED:20170511
LAST-MODIFIED:20170511
UID:424-1499040000-1499471999@sudburysportlink.ca
SUMMARY:KABUUM Beach Volleyball Camp
DESCRIPTION:Coached by Cambrian Women’s Volleyball Head Coach Dale Beausoleil. KABUUM Beach Volleyball Camp will help every athlete achieve their desired goals through the guidance and comprehensive programs by our varsity coach. Fundamentals will be taught\, and will be utilized in team play situations. (Only accepts 30 athletes)\nBoys & Girls Age 13+\nCost: $150
URL:https://sudburysportlink.ca/event/kabuum-beach-volleyball-camp/
LOCATION:1400 Barrydowne Road\, Sudbury\, Ontario\, P3A 3V8\, Canada
CATEGORIES:Camp
END:VEVENT
END:VCALENDAR