BEGIN:VCALENDAR
VERSION:2.0
PRODID:-//SportLink - ECPv4.2.7//NONSGML v1.0//EN
CALSCALE:GREGORIAN
METHOD:PUBLISH
X-WR-CALNAME:SportLink
X-ORIGINAL-URL:https://sudburysportlink.ca
X-WR-CALDESC:Events for SportLink
BEGIN:VEVENT
DTSTART;TZID=UTC+0:20170814T080000
DTEND;TZID=UTC+0:20170818T170000
DTSTAMP:20260425T001904
CREATED:20170511T224143
LAST-MODIFIED:20170511T225147
UID:426-1502697600-1503075600@sudburysportlink.ca
SUMMARY:KABUUM Indoor Volleyball Camp
DESCRIPTION:Coached by Cambrian Women’s Volleyball Head Coach Dale Beausoleil. KABUUM Indoor Volleyball Camp will help every athlete achieve their desired goals through the guidance and comprehensive programs by our varsity coach. All athletes will receive applicable instruction based on skill level\, and will foster an atmosphere of learning and player development.\nBoys & Girls Age 11+\nCost: $250 (before July 17th)  $275 (After July 17th)\n 
URL:https://sudburysportlink.ca/event/kabuum-indoor-volleyball-camp/
LOCATION:1400 Barrydowne Road\, Sudbury\, Ontario\, P3A 3V8\, Canada
CATEGORIES:Camp
END:VEVENT
END:VCALENDAR