BEGIN:VCALENDAR
VERSION:2.0
PRODID:-//SportLink - ECPv4.2.7//NONSGML v1.0//EN
CALSCALE:GREGORIAN
METHOD:PUBLISH
X-WR-CALNAME:SportLink
X-ORIGINAL-URL:https://sudburysportlink.ca
X-WR-CALDESC:Events for SportLink
BEGIN:VEVENT
DTSTART;VALUE=DATE:20170523
DTEND;VALUE=DATE:20170524
DTSTAMP:20260425T125333
CREATED:20170502
LAST-MODIFIED:20170510
UID:307-1495497600-1495670399@sudburysportlink.ca
SUMMARY:NOSSA Boy's Baseball
DESCRIPTION:
URL:https://sudburysportlink.ca/event/nossa-boys-baseball/
LOCATION:17 Lasalle Blvd.\, Sudbury\, Ontario\, P0M 1N0\, Canada
CATEGORIES:Coaching Clnics
END:VEVENT
END:VCALENDAR