BEGIN:VCALENDAR
VERSION:2.0
PRODID:-//SportLink - ECPv4.2.7//NONSGML v1.0//EN
CALSCALE:GREGORIAN
METHOD:PUBLISH
X-WR-CALNAME:SportLink
X-ORIGINAL-URL:https://sudburysportlink.ca
X-WR-CALDESC:Events for SportLink
BEGIN:VEVENT
DTSTART;VALUE=DATE:20170529
DTEND;VALUE=DATE:20170529
DTSTAMP:20260425T022149
CREATED:20170504
LAST-MODIFIED:20170510
UID:335-1496016000-1496102399@sudburysportlink.ca
SUMMARY:SDSSAA Girls Slo-pitch Championships
DESCRIPTION:
URL:https://sudburysportlink.ca/event/sdssaa-girls-slo-pitch-championships/
LOCATION:17 Lasalle Blvd.\, Sudbury\, Ontario\, P0M 1N0\, Canada
CATEGORIES:High School Sports
END:VEVENT
END:VCALENDAR