BEGIN:VCALENDAR
VERSION:2.0
PRODID:-//SportLink - ECPv4.2.7//NONSGML v1.0//EN
CALSCALE:GREGORIAN
METHOD:PUBLISH
X-WR-CALNAME:SportLink
X-ORIGINAL-URL:https://sudburysportlink.ca
X-WR-CALDESC:Events for SportLink
BEGIN:VEVENT
DTSTART;VALUE=DATE:20170523
DTEND;VALUE=DATE:20170523
DTSTAMP:20260421T010229
CREATED:20170502
LAST-MODIFIED:20170510
UID:312-1495497600-1495583999@sudburysportlink.ca
SUMMARY:SDSSAA Premier Girls Soccer Championship
DESCRIPTION:
URL:https://sudburysportlink.ca/event/sdssaa-premier-girls-soccer-championship/
LOCATION:90 Centennial Drive\, Sudbury\, Ontario\, P3E 5J4\, Canada
CATEGORIES:High School Sports
END:VEVENT
END:VCALENDAR