BEGIN:VCALENDAR
VERSION:2.0
PRODID:-//SportLink - ECPv4.2.7//NONSGML v1.0//EN
CALSCALE:GREGORIAN
METHOD:PUBLISH
X-WR-CALNAME:SportLink
X-ORIGINAL-URL:https://sudburysportlink.ca
X-WR-CALDESC:Events for SportLink
BEGIN:VEVENT
DTSTART;VALUE=DATE:20170510
DTEND;VALUE=DATE:20170511
DTSTAMP:20260420T184418
CREATED:20170504
LAST-MODIFIED:20170510
UID:328-1494374400-1494547199@sudburysportlink.ca
SUMMARY:SDSSAA Tennis Championships
DESCRIPTION:
URL:https://sudburysportlink.ca/event/sdssaa-tennis-championships/
LOCATION:30 Cypress Street\, Sudbury\, Ontario\, P3C 4J3\, Canada
CATEGORIES:High School Sports
END:VEVENT
END:VCALENDAR