BEGIN:VCALENDAR
VERSION:2.0
PRODID:-//SportLink - ECPv4.2.7//NONSGML v1.0//EN
CALSCALE:GREGORIAN
METHOD:PUBLISH
X-WR-CALNAME:SportLink
X-ORIGINAL-URL:https://sudburysportlink.ca
X-WR-CALDESC:Events for SportLink
BEGIN:VEVENT
DTSTART;TZID=UTC+0:20170527T080000
DTEND;TZID=UTC+0:20170528T170000
DTSTAMP:20260422T034803
CREATED:20170510T192626
LAST-MODIFIED:20170510T193659
UID:355-1495872000-1495990800@sudburysportlink.ca
SUMMARY:Soccer Coaching Clinic - Learn to Train (U9-U12)
DESCRIPTION:To register: visit coachcentre.ca and make an account. Search 'Sudbury' under the 'District' drop down menu and register for the appropriate course. \nNote: for coaches who have previously taken courses titled 'Level 1/2/3' or 'Child/youth/senior' these credentials will expire April 2017. To be certified\, please register for the course of only the age category you will be working with. 
URL:https://sudburysportlink.ca/event/soccer-coaching-clinic-learn-to-train-u9-u12/
LOCATION:261 Notre Dame Ave\, Sudbury\, Ontario\, P3C 5K4\, Canada
CATEGORIES:Coaching Clnics
END:VEVENT
END:VCALENDAR